BEGIN:VCALENDAR
VERSION:2.0
PRODID:-//Boston Chinese Evangelical Church - ECPv6.15.18//NONSGML v1.0//EN
CALSCALE:GREGORIAN
METHOD:PUBLISH
X-ORIGINAL-URL:https://www.bcec.net
X-WR-CALDESC:Events for Boston Chinese Evangelical Church
REFRESH-INTERVAL;VALUE=DURATION:PT1H
X-Robots-Tag:noindex
X-PUBLISHED-TTL:PT1H
BEGIN:VTIMEZONE
TZID:America/New_York
BEGIN:DAYLIGHT
TZOFFSETFROM:-0500
TZOFFSETTO:-0400
TZNAME:EDT
DTSTART:20250309T070000
END:DAYLIGHT
BEGIN:STANDARD
TZOFFSETFROM:-0400
TZOFFSETTO:-0500
TZNAME:EST
DTSTART:20251102T060000
END:STANDARD
BEGIN:DAYLIGHT
TZOFFSETFROM:-0500
TZOFFSETTO:-0400
TZNAME:EDT
DTSTART:20260308T070000
END:DAYLIGHT
BEGIN:STANDARD
TZOFFSETFROM:-0400
TZOFFSETTO:-0500
TZNAME:EST
DTSTART:20261101T060000
END:STANDARD
BEGIN:DAYLIGHT
TZOFFSETFROM:-0500
TZOFFSETTO:-0400
TZNAME:EDT
DTSTART:20270314T070000
END:DAYLIGHT
BEGIN:STANDARD
TZOFFSETFROM:-0400
TZOFFSETTO:-0500
TZNAME:EST
DTSTART:20271107T060000
END:STANDARD
END:VTIMEZONE
BEGIN:VEVENT
DTSTART;TZID=America/New_York:20260422T193000
DTEND;TZID=America/New_York:20260422T203000
DTSTAMP:20260422T074942
CREATED:20250724T035933Z
LAST-MODIFIED:20250804T222257Z
UID:10047116-1776886200-1776889800@www.bcec.net
SUMMARY:English Prayer Meeting
DESCRIPTION:We invite people to join us as we pray for our church with an emphasis on the English congregations. \nIf you would like to get the zoom link or call into the prayer meeting\, please contact helena.fong@bcec.net.
URL:https://www.bcec.net/event/english-prayer-meeting/2026-04-22/
LOCATION:Zoom Meeting
CATEGORIES:Care & Support,Chinatown Events,Newton Events
ATTACH;FMTTYPE=image/jpeg:https://www.bcec.net/wp-content/uploads/2025/07/prayer-e1756485287519.jpeg
END:VEVENT
BEGIN:VEVENT
DTSTART;TZID=America/New_York:20260425T000000
DTEND;TZID=America/New_York:20260425T235959
DTSTAMP:20260422T074942
CREATED:20260220T194213Z
LAST-MODIFIED:20260416T174607Z
UID:10059856-1777075200-1777161599@www.bcec.net
SUMMARY:The Marriage Thing
DESCRIPTION:THE MARRIAGE THING is a one day marriage enrichment workshop on Saturday\, April 25\, 2026 sponsored by BCEC. \nTo learn more or register\, go to http://tiny.cc/themarriagething.
URL:https://www.bcec.net/event/the-marriage-thing/
LOCATION:Chinatown Campus\, 120 Shawmut Ave.
CATEGORIES:Adults,Care & Support,Chinatown Events,Family,Newton Events,Special Events
ATTACH;FMTTYPE=image/png:https://www.bcec.net/wp-content/uploads/2026/02/themarriagething-1.png
END:VEVENT
BEGIN:VEVENT
DTSTART;TZID=America/New_York:20260429T193000
DTEND;TZID=America/New_York:20260429T203000
DTSTAMP:20260422T074942
CREATED:20250724T035933Z
LAST-MODIFIED:20250804T222257Z
UID:10047117-1777491000-1777494600@www.bcec.net
SUMMARY:English Prayer Meeting
DESCRIPTION:We invite people to join us as we pray for our church with an emphasis on the English congregations. \nIf you would like to get the zoom link or call into the prayer meeting\, please contact helena.fong@bcec.net.
URL:https://www.bcec.net/event/english-prayer-meeting/2026-04-29/
LOCATION:Zoom Meeting
CATEGORIES:Care & Support,Chinatown Events,Newton Events
ATTACH;FMTTYPE=image/jpeg:https://www.bcec.net/wp-content/uploads/2025/07/prayer-e1756485287519.jpeg
END:VEVENT
END:VCALENDAR