BEGIN:VCALENDAR
VERSION:2.0
PRODID:-//Boston Chinese Evangelical Church - ECPv6.15.18//NONSGML v1.0//EN
CALSCALE:GREGORIAN
METHOD:PUBLISH
X-WR-CALNAME:Boston Chinese Evangelical Church
X-ORIGINAL-URL:https://www.bcec.net
X-WR-CALDESC:Events for Boston Chinese Evangelical Church
REFRESH-INTERVAL;VALUE=DURATION:PT1H
X-Robots-Tag:noindex
X-PUBLISHED-TTL:PT1H
BEGIN:VTIMEZONE
TZID:America/New_York
BEGIN:DAYLIGHT
TZOFFSETFROM:-0500
TZOFFSETTO:-0400
TZNAME:EDT
DTSTART:20250309T070000
END:DAYLIGHT
BEGIN:STANDARD
TZOFFSETFROM:-0400
TZOFFSETTO:-0500
TZNAME:EST
DTSTART:20251102T060000
END:STANDARD
BEGIN:DAYLIGHT
TZOFFSETFROM:-0500
TZOFFSETTO:-0400
TZNAME:EDT
DTSTART:20260308T070000
END:DAYLIGHT
BEGIN:STANDARD
TZOFFSETFROM:-0400
TZOFFSETTO:-0500
TZNAME:EST
DTSTART:20261101T060000
END:STANDARD
BEGIN:DAYLIGHT
TZOFFSETFROM:-0500
TZOFFSETTO:-0400
TZNAME:EDT
DTSTART:20270314T070000
END:DAYLIGHT
BEGIN:STANDARD
TZOFFSETFROM:-0400
TZOFFSETTO:-0500
TZNAME:EST
DTSTART:20271107T060000
END:STANDARD
END:VTIMEZONE
BEGIN:VEVENT
DTSTART;TZID=America/New_York:20260330T000000
DTEND;TZID=America/New_York:20260405T235959
DTSTAMP:20260420T070211
CREATED:20260224T222003Z
LAST-MODIFIED:20260319T154001Z
UID:10059857-1774828800-1775433599@www.bcec.net
SUMMARY:Uplift Together: Holy Week 2026
DESCRIPTION:🕊️UPLIFT TOGETHER: HOLY WEEK 2026 will be March 30-April 5\, a time of BCEC staff led scripture reading and prayer! This can be the first step in revitalizing your prayer life\, or it could be another part added to your already thriving prayer life\, but what’s most important is that we Uplift Together. \nPosts leading up to the start of Uplift Together will begin March 23 onwards\, so we encourage those that regularly use Instagram to 1. follow @bcecchinatown and if they’re comfortable\, 2. reshare/repost the content onto their own Instagram stories. \nDaily reminders to check out the corresponding Instagram reel’s link for the day will be sent out during March 30-April 5. You can sign up to receive our daily reminders (text or email) by filling out this opt-in form.
URL:https://www.bcec.net/event/uplift-together-holyweek-2026/
CATEGORIES:Chinatown Events,Newton Events,Online/Virtual
ATTACH;FMTTYPE=image/png:https://www.bcec.net/wp-content/uploads/2026/02/uplifttogether_holyweek2026-1.png
LOCATION:https://www.instagram.com/bcecchinatown/
END:VEVENT
END:VCALENDAR